BEGIN:VCALENDAR
VERSION:2.0
METHOD:PUBLISH
PRODID:-//Accessible Web Design//My Calendar//http://www.joedolson.com//v//EN';
BEGIN:VEVENT
UID:1230-13
LOCATION:Dudley Grange Park 3100 Federal Street  Camden NJ 08105
SUMMARY:Camden Repertory Theater Presents: MISOCITY
DTSTAMP:20210730T140000
ORGANIZER;CN=Enrique Rivera:MAILTO:erivera@sjcscamden.org
DTSTART:20210730T140000
DTEND:20210730T180000
CATEGORIES:General
URL;VALUE=URI:
DESCRIPTION;ENCODING=QUOTED-PRINTABLE:See Miso City FREE, wed-fri at Dudley Grange Park!7/28, 7/29 and 7/ 30 @ 2 &amp; 6 pm Dudley Grange Park, Camden You don’t want to miss this outdoor theater experience brought to you by Connect the Lots and @camdenreptheater. Bring your picnic. It’s art, it’s live,It’s Fun for the whole family! #misocity #camdenrep 
END:VEVENT
END:VCALENDAR